BEGIN:VCALENDAR
VERSION:2.0
PRODID:-//Portage News - ECPv5.14.1//NONSGML v1.0//EN
CALSCALE:GREGORIAN
METHOD:PUBLISH
X-WR-CALNAME:Portage News
X-ORIGINAL-URL:https://portagenews.net
X-WR-CALDESC:Events for Portage News
BEGIN:VTIMEZONE
TZID:UTC
BEGIN:STANDARD
TZOFFSETFROM:+0000
TZOFFSETTO:+0000
TZNAME:UTC
DTSTART:20170101T000000
END:STANDARD
END:VTIMEZONE
BEGIN:VEVENT
DTSTART;TZID=UTC:20170716T130000
DTEND;TZID=UTC:20170716T160000
DTSTAMP:20260420T110922
CREATED:20170626T191206Z
LAST-MODIFIED:20170626T191427Z
UID:14244-1500210000-1500220800@portagenews.net
SUMMARY:Annual Geauga Democratic Picnic
DESCRIPTION:Summer is the time for family and friends! Come on out on Sunday\, July 16th to our 2017 Annual Picnic sponsored by the Geauga County Democratic Party! Join us for progressive conversations and learn about the local and state candidates running in 2017! \nThe event will be held at West Wood Park – Turkey Run Shelter from 1:00 p.m. – 4:00 p.m. \n9465 Kinsman Rd\nNovelty\, Ohio 44072 \nThere is no charge for this picnic and we will be serving hamburgers and hot dogs. Please bring a dish to share!
URL:https://portagenews.net/event/annual-geauga-democratic-picnic/
LOCATION:West Woods Park\, 9465 Kinsman Rd\, Novelty\, OH\, 44072\, United States
ATTACH;FMTTYPE=image/jpeg:https://portagenews.net/wp-content/uploads/2017/06/Geauga-County-Dems-Annual-Picnic.jpg
ORGANIZER;CN="Terri%20McIntee":MAILTO:mcintee99@yahoo.com
END:VEVENT
END:VCALENDAR