BEGIN:VCALENDAR
VERSION:2.0
PRODID:-//Portage News - ECPv5.14.1//NONSGML v1.0//EN
CALSCALE:GREGORIAN
METHOD:PUBLISH
X-WR-CALNAME:Portage News
X-ORIGINAL-URL:https://portagenews.net
X-WR-CALDESC:Events for Portage News
BEGIN:VTIMEZONE
TZID:America/New_York
BEGIN:DAYLIGHT
TZOFFSETFROM:-0500
TZOFFSETTO:-0400
TZNAME:EDT
DTSTART:20190310T070000
END:DAYLIGHT
BEGIN:STANDARD
TZOFFSETFROM:-0400
TZOFFSETTO:-0500
TZNAME:EST
DTSTART:20191103T060000
END:STANDARD
END:VTIMEZONE
BEGIN:VEVENT
DTSTART;TZID=America/New_York:20190517T163000
DTEND;TZID=America/New_York:20190517T190000
DTSTAMP:20260419T082709
CREATED:20190509T021238Z
LAST-MODIFIED:20190509T021238Z
UID:14861-1558110600-1558119600@portagenews.net
SUMMARY:East Geauga Kiwanis Fish Fry
DESCRIPTION:On Friday\, May 17th the East Geauga Kiwanis is holding a Fish Fry at Cardinal High School in Middlefield from 4:30 p.m. to 7:00 p.m. \nThis Fish Fry raises funds for our community projects and Senior Awards. The meal includes All You Cann Eat fish\, French fries or baked potato\, coleslaw\, and roll\, all for $11.00. Desserts are available for a donation. \nCardinal Middle School\, Almeda Drive\, Middlefield\, Ohio 44062
URL:https://portagenews.net/event/east-geauga-kiwanis-fish-fry/
LOCATION:Cardinal Middle School\, Almeda Drive\, Middlefield\, OH\, 44062\, United States
ATTACH;FMTTYPE=image/jpeg:https://portagenews.net/wp-content/uploads/2019/05/Fish-Fry.jpg
ORGANIZER;CN="East%20Geauga%20Kiwanis":MAILTO:kiwaniseg@gmail.com
END:VEVENT
END:VCALENDAR