BEGIN:VCALENDAR
VERSION:2.0
PRODID:-//Portage News - ECPv5.14.1//NONSGML v1.0//EN
CALSCALE:GREGORIAN
METHOD:PUBLISH
X-WR-CALNAME:Portage News
X-ORIGINAL-URL:https://portagenews.net
X-WR-CALDESC:Events for Portage News
BEGIN:VTIMEZONE
TZID:UTC
BEGIN:STANDARD
TZOFFSETFROM:+0000
TZOFFSETTO:+0000
TZNAME:UTC
DTSTART:20160101T000000
END:STANDARD
END:VTIMEZONE
BEGIN:VEVENT
DTSTART;TZID=UTC:20160702T020000
DTEND;TZID=UTC:20160702T180000
DTSTAMP:20260420T143208
CREATED:20160531T181715Z
LAST-MODIFIED:20160531T181715Z
UID:13812-1467424800-1467482400@portagenews.net
SUMMARY:Rose's Rescue Wine & Dogs VI
DESCRIPTION:Come join Rose’s Rescue for an afternoon of fun! \nHot dogs roasted on the grill\, vendors\, rescue groups\, and fun. \nEntertainment by Jeff Huth \nPet photos available by Cheryl Taylor \nBRING A 3 LB (OR LARGER) BAG OF ANY KIND OF PET FOOD AND RECEIVE A FREE ENTRY INTO THE DOOR PRIZE DRAWING!! All food will be donated to the People Care Pet Pantry. \nThis is a dog friendly event so bring along your on leash dog/people friendly pooch!
URL:https://portagenews.net/event/roses-rescue-wine-dogs-vi/
LOCATION:Barrel Run Crossing Winery and Vineyard\, 3272 Industry Rd \, Rootstown\, OH\, 44272 \, United States
ORGANIZER;CN="Karen%20Genske":MAILTO:genskek9@aol.com
END:VEVENT
END:VCALENDAR