BEGIN:VCALENDAR
VERSION:2.0
PRODID:-//Portage News - ECPv5.14.1//NONSGML v1.0//EN
CALSCALE:GREGORIAN
METHOD:PUBLISH
X-WR-CALNAME:Portage News
X-ORIGINAL-URL:https://portagenews.net
X-WR-CALDESC:Events for Portage News
BEGIN:VTIMEZONE
TZID:UTC
BEGIN:STANDARD
TZOFFSETFROM:+0000
TZOFFSETTO:+0000
TZNAME:UTC
DTSTART:20160101T000000
END:STANDARD
END:VTIMEZONE
BEGIN:VEVENT
DTSTART;TZID=UTC:20160915T180000
DTEND;TZID=UTC:20160915T210000
DTSTAMP:20260420T102811
CREATED:20160807T211523Z
LAST-MODIFIED:20160807T211641Z
UID:13856-1473962400-1473973200@portagenews.net
SUMMARY:Wine Tasting
DESCRIPTION:Friends of WomenSafe is partnering with Adams Reserve Cheddar again to host the seventh annual Wine Tasting event Thursday September 15th from 6-9 p.m. at the Sharon James Cellars\, 11303 Kinsman Road in Newbury. Come admire the newly renovated Sharon James\, sample a variety of domestic wines\, munch on hearty appetizers and enjoy the fine cheeses of Adams Reserve Cheddar while listening to the musical styling of Vince Menti. Mingle with friends old and new and buy chances for the 50/50 Raffle\, Gift Raffle and Wine Pull. The Gift Raffle offers an exciting array of baskets\, restaurant certificates\, hotel overnights\, jewelry\, artwork\, delicious consumables\, collectables and much more.\nThis is the perfect opportunity to learn more about the wines produced by the Sharon James Cellars and perhaps discover something new to delight your taste buds. For only $35.00 per person ($25 for adults not wishing to sample wine) you can increase your wine knowledge while supporting a worthy cause.\nPlease make your reservations online through our website at www.fows.info or call #440-285-3741 for more information. Friends of WomenSafe is a volunteer driven group with the sole mission of generating unrestricted funds to support the important work of WomenSafe\, the domestic violence shelter in Geauga County. Whether you’re looking for an interesting evening\, or the chance to join a group of dedicated volunteers\, please join the fun by making your reservation today.
URL:https://portagenews.net/event/wine-tasting/
LOCATION:Sharon James Cellars\, 11303 Kinsman Road \, Newbury\, OH\,  44065 \, United States
ATTACH;FMTTYPE=image/jpeg:https://portagenews.net/wp-content/uploads/2016/08/wineglass.jpg
ORGANIZER;CN="Nancy%20Temple":MAILTO:	nancytemple@roadrunner.com
END:VEVENT
END:VCALENDAR